{
 "currentVersion": 11.5,
 "cimVersion": "3.5.0",
 "serviceDescription": "",
 "mapName": "Map",
 "description": "",
 "copyrightText": "",
 "supportsDynamicLayers": true,
 "layers": [
  {
   "id": 0,
   "name": "Non_Fish_Wria_27_50_ft_Buffer",
   "parentLayerId": -1,
   "defaultVisibility": true,
   "subLayerIds": null,
   "minScale": 0,
   "maxScale": 0,
   "type": "Feature Layer",
   "geometryType": "esriGeometryPolygon",
   "supportsDynamicLegends": true
  },
  {
   "id": 1,
   "name": "Non_Fish_Wria_26_South_50_ft_Buffer",
   "parentLayerId": -1,
   "defaultVisibility": true,
   "subLayerIds": null,
   "minScale": 0,
   "maxScale": 0,
   "type": "Feature Layer",
   "geometryType": "esriGeometryPolygon",
   "supportsDynamicLegends": true
  },
  {
   "id": 2,
   "name": "Non_Fish_Wria_26_North_50_ft_Buffer",
   "parentLayerId": -1,
   "defaultVisibility": true,
   "subLayerIds": null,
   "minScale": 0,
   "maxScale": 0,
   "type": "Feature Layer",
   "geometryType": "esriGeometryPolygon",
   "supportsDynamicLegends": true
  },
  {
   "id": 3,
   "name": "Non_Fish_Wria_25_50_ft_Buffer",
   "parentLayerId": -1,
   "defaultVisibility": true,
   "subLayerIds": null,
   "minScale": 0,
   "maxScale": 0,
   "type": "Feature Layer",
   "geometryType": "esriGeometryPolygon",
   "supportsDynamicLegends": true
  },
  {
   "id": 4,
   "name": "Non_Fish_Wria_23_50_ft_Buffer",
   "parentLayerId": -1,
   "defaultVisibility": true,
   "subLayerIds": null,
   "minScale": 0,
   "maxScale": 0,
   "type": "Feature Layer",
   "geometryType": "esriGeometryPolygon",
   "supportsDynamicLegends": true
  }
 ],
 "tables": [],
 "spatialReference": {
  "wkid": 2927,
  "latestWkid": 2927,
  "xyTolerance": 0.003280833333333333,
  "zTolerance": 0.001,
  "mTolerance": 0.001,
  "falseX": -117498300,
  "falseY": -98850300,
  "xyUnits": 3048.0060960121928,
  "falseZ": -100000,
  "zUnits": 10000,
  "falseM": -100000,
  "mUnits": 10000
 },
 "singleFusedMapCache": true,
 "tileInfo": {
  "rows": 256,
  "cols": 256,
  "dpi": 96,
  "format": "PNG",
  "compressionQuality": 75,
  "origin": {
   "x": -117498300,
   "y": 2.955013105192939E12
  },
  "spatialReference": {
   "wkid": 2927,
   "latestWkid": 2927,
   "xyTolerance": 0.003280833333333333,
   "zTolerance": 0.001,
   "mTolerance": 0.001,
   "falseX": -117498300,
   "falseY": -98850300,
   "xyUnits": 3048.0060960121928,
   "falseZ": -100000,
   "zUnits": 10000,
   "falseM": -100000,
   "mUnits": 10000
  },
  "lods": [
   {
    "level": 0,
    "resolution": 434.02777777777777,
    "scale": 500000
   },
   {
    "level": 1,
    "resolution": 217.01388888888889,
    "scale": 250000
   },
   {
    "level": 2,
    "resolution": 108.50694444444444,
    "scale": 125000
   },
   {
    "level": 3,
    "resolution": 55.55555555555555,
    "scale": 64000
   },
   {
    "level": 4,
    "resolution": 27.777777777777775,
    "scale": 32000
   }
  ]
 },
 "storageInfo": {
  "storageFormat": "esriMapCacheStorageModeCompactV2",
  "packetSize": 128
 },
 "initialExtent": {
  "xmin": 945426.6966360955,
  "ymin": 196608.65425345974,
  "xmax": 1189098.015293641,
  "ymax": 416555.3820477959,
  "spatialReference": {
   "wkid": 2927,
   "latestWkid": 2927,
   "xyTolerance": 0.003280833333333333,
   "zTolerance": 0.001,
   "mTolerance": 0.001,
   "falseX": -117498300,
   "falseY": -98850300,
   "xyUnits": 3048.0060960121928,
   "falseZ": -100000,
   "zUnits": 10000,
   "falseM": -100000,
   "mUnits": 10000
  }
 },
 "fullExtent": {
  "xmin": 952984.9707550057,
  "ymin": 201629.12148732794,
  "xmax": 1201526.9314520562,
  "ymax": 395580.84734377416,
  "spatialReference": {
   "wkid": 2927,
   "latestWkid": 2927,
   "xyTolerance": 0.003280833333333333,
   "zTolerance": 0.001,
   "mTolerance": 0.001,
   "falseX": -117498300,
   "falseY": -98850300,
   "xyUnits": 3048.0060960121928,
   "falseZ": -100000,
   "zUnits": 10000,
   "falseM": -100000,
   "mUnits": 10000
  }
 },
 "datesInUnknownTimezone": false,
 "minScale": 523558.0483406936,
 "maxScale": 16361.189010646674,
 "units": "esriFeet",
 "supportedImageFormatTypes": "PNG32,PNG24,PNG,JPG,DIB,TIFF,EMF,PS,PDF,GIF,SVG,SVGZ,BMP",
 "documentInfo": {
  "Title": "Map",
  "Author": "",
  "Comments": "",
  "Subject": "",
  "Category": "",
  "Version": "3.1.0",
  "AntialiasingMode": "Fast",
  "TextAntialiasingMode": "Force",
  "Keywords": "Cowlitz County,Riparian,non fish"
 },
 "supportsQueryDomains": true,
 "capabilities": "Map,Query,Data",
 "supportedQueryFormats": "JSON, geoJSON, PBF",
 "exportTilesAllowed": false,
 "referenceScale": 0.0,
 "datumTransformations": [
  {
   "geoTransforms": [
    {
     "wkid": 1580,
     "latestWkid": 1580,
     "transformForward": false,
     "name": "NAD_1983_HARN_To_WGS_1984"
    }
   ]
  },
  {
   "geoTransforms": [
    {
     "wkid": 1580,
     "latestWkid": 1580,
     "transformForward": true,
     "name": "NAD_1983_HARN_To_WGS_1984"
    }
   ]
  },
  {
   "geoTransforms": [
    {
     "wkid": 1580,
     "latestWkid": 1580,
     "transformForward": false,
     "name": "NAD_1983_HARN_To_WGS_1984"
    }
   ]
  },
  {
   "geoTransforms": [
    {
     "wkid": 1580,
     "latestWkid": 1580,
     "transformForward": true,
     "name": "NAD_1983_HARN_To_WGS_1984"
    }
   ]
  },
  {
   "geoTransforms": [
    {
     "wkid": 1501,
     "latestWkid": 1501,
     "transformForward": true,
     "name": "NAD_1983_To_HARN_WA_OR"
    }
   ]
  },
  {
   "geoTransforms": [
    {
     "wkid": 1501,
     "latestWkid": 1501,
     "transformForward": false,
     "name": "NAD_1983_To_HARN_WA_OR"
    }
   ]
  }
 ],
 "supportsDatumTransformation": true,
 "floorAwareMapProperties": {
  "defaultFloorFilterSettings": {
   "isEnabled": false
  }
 },
 "archivingInfo": {
  "supportsHistoricMoment": false
 },
 "supportsClipping": true,
 "supportsSpatialFilter": true,
 "supportsTimeRelation": true,
 "supportsQueryDataElements": true,
 "mapUnits": {
  "uwkid": 9003
 },
 "maxSelectionCount": 2000,
 "maxRecordCount": 2000,
 "maxImageHeight": 4096,
 "maxImageWidth": 4096,
 "supportedExtensions": "",
 "resampling": false,
 "serviceItemId": "ac9e3ec83cc64e91a5a1249e04f2f40f"
}
